BEGIN:VCALENDAR
VERSION:2.0
PRODID:https://github.com/derhansen/sf_event_mgt
METHOD:PUBLISH
BEGIN:VEVENT
UID:114-15@www.thueringerfv.de
CLASS: PUBLIC
SUMMARY:Qualifikationslehrgang TFV-Beobachter
DESCRIPTION:
LOCATION:Jena
DTSTAMP:20260218T102112Z
DTSTART:20260822T070000Z
DTEND:20260823T100000Z
END:VEVENT
END:VCALENDAR
