BEGIN:VCALENDAR
VERSION:2.0
PRODID:https://github.com/derhansen/sf_event_mgt
METHOD:PUBLISH
BEGIN:VEVENT
UID:113-15@www.thueringerfv.de
CLASS: PUBLIC
SUMMARY:Qualifikationslehrgang TFV-Schiedsrichter
DESCRIPTION:
LOCATION:Landessportschule Bad Blankenburg
DTSTAMP:20260218T102005Z
DTSTART:20260704T070000Z
DTEND:20260705T100000Z
END:VEVENT
END:VCALENDAR
