BEGIN:VCALENDAR
VERSION:2.0
PRODID:https://github.com/derhansen/sf_event_mgt
METHOD:PUBLISH
BEGIN:VEVENT
UID:7-15@www.thueringerfv.de
CLASS: PUBLIC
SUMMARY:Staffeltagung Nachwuchs
DESCRIPTION:
LOCATION:Neustadt(Orla)
DTSTAMP:20250716T140651Z
DTSTART:20250729T163000Z
DTEND:20250729T183000Z
END:VEVENT
END:VCALENDAR
